Workbook
Name 생태시간표: 세부시간표!$A$1:$H$18

Sheet 총괄표
A1: 반찬조리실무취업과정_1회 세부시간표
A2: 개월 | D2: 2 | I2: 3 | M2: 4 | R2: 5 | V2: 6 | Y2: 총계
A3: 주 | C3: 1 | D3: 2 | E3: 3 | F3: 4 | G3: 5 | H3: 6 | I3: 7 | J3: 8 | K3: 9 | L3: 10 | M3: 11 | N3: 12 | O3: 13 | P3: 14 | Q3: 15 | R3: 16 | S3: 17 | T3: 18 | U3: 19 | V3: 20 | W3: 21 | X3: 22
A4: 반찬조리실무취업과정1회 세부시간표 | B4: 일자 | C4: 43732 | D4: =C6+3 -> 43738 | E4: =D6+3 -> 43745 | F4: =E6+3 -> 43752 | G4: =F6+3 -> 43759 | H4: =G6+3 -> 43766 | I4: =H6+3 -> 43773 | J4: =I6+3 -> 43780 | K4: =J6+3 -> 43787 | ... M4: =L6+3 -> 43801
C5: ~ | D5: ~ | E5: ~ | F5: ~ | G5: ~ | H5: ~ | I5: ~ | J5: ~ | K5: ~ | L5: ~ | M5: ~
C6: =C4+3 -> 43735 | D6: =D4+4 -> 43742 | E6: =E4+4 -> 43749 | F6: =F4+4 -> 43756 | G6: =G4+4 -> 43763 | H6: =H4+4 -> 43770 | I6: =I4+4 -> 43777 | J6: =J4+4 -> 43784 | K6: =K4+4 -> 43791 | L6: =L4+4 -> 43798 | M6: 43803
B7: 휴일수 | C7: 0 | D7: 1 | E7: 1 | F7: 0 | G7: 0 | H7: 0 | I7: 0 | J7: 0 | K7: 0 | L7: 0 | M7: 0 | Y7: 2
A8: 일수 | C8: 4 | D8: =5-D7 -> 4 | E8: =4 -> 4 | F8: =5-F7 -> 5 | G8: =5-G7 -> 5 | H8: 5 | I8: =5-I7 -> 5 | J8: =5-J7 -> 5 | K8: =5-K7 -> 5 | L8: =5-L7 -> 5 | M8: =3 -> 3 | Y8: 50
Y9: =SUM(C9:X9) -> 0
A10: 시간 | C10: 12 | D10: 12 | E10: 12 | F10: 15 | G10: 15 | H10: 15 | I10: 15 | J10: 15 | K10: 15 | L10: 15 | M10: 9 | R10: =SUM(R13,R36,R43,R63) -> 0 | S10: =SUM(S13,S36,S43,S63) -> 0 | T10: =SUM(T13,T36,T43,T63) -> 0 | U10: =SUM(U13,U36,U43,U63) -> 0 | V10: =SUM(V13,V36,V43,V63) -> 0 | W10: =SUM(W13,W36,W43,W63) -> 0 | X10: =SUM(X13,X36,X43,X63) -> 0 | Y10: 150
A11: NCS 소양교과 | C11: =COUNTIF(세부시간표!$D$7:$F$18,$B11) -> 0 | D11: =COUNTIF(세부시간표!$E$23:$F$34,$B11) -> 0 | E11: =COUNTIF(세부시간표!$D$41:$F$52,$B11) -> 0 | F11: =COUNTIF(세부시간표!$D$57:$F$68,$B11) -> 0 | G11: =COUNTIF(세부시간표!$D$75:$E$86,$B11) -> 0 | H11: =COUNTIF(세부시간표!$D$91:$D$102,$B11) -> 0 | I11: =COUNTIF(세부시간표!$D$109:$E$120,$B11) -> 0 | J11: =COUNTIF(세부시간표!$G$110:$H$120,$B11) -> 0 | K11: =COUNTIF(세부시간표!$D$143:$E$154,$B11) -> 0 | L11: =COUNTIF(세부시간표!$H$143:$H$154,$B11) -> 0 | M11: =COUNTIF(세부시간표!$F$177:$H$188,$B11) -> 0 | N11: =COUNTIF(세부시간표!$D$195:$H$206,$B11) -> 0 | O11: =COUNTIF(세부시간표!$D$214:$H$225,$B11) -> 0 | P11: =COUNTIF(세부시간표!$D$231:$H$242,$B11) -> 0 | Q11: =COUNTIF(세부시간표!$D$248:$H$261,$B11) -> 0 | R11: =COUNTIF(세부시간표!$D$267:$H$278,$B11) -> 0 | S11: =COUNTIF(세부시간표!$D$286:$H$297,$B11) -> 0 | T11: =COUNTIF(세부시간표!$D$303:$H$314,$B11) -> 0 | U11: =COUNTIF(세부시간표!$D$322:$H$333,$B11) -> 0 | V11: =COUNTIF(세부시간표!$D$339:$H$350,$B11) -> 0 | W11: =COUNTIF(세부시간표!$D$358:$H$369,$B11) -> 0 | X11: =COUNTIF(세부시간표!$D$375:$H$386,$B11) -> 0 | Y11: =SUM(C11:X11) -> 0
C12: =COUNTIF(세부시간표!$D$7:$F$18,$B12) -> 0 | D12: =COUNTIF(세부시간표!$E$23:$F$34,$B12) -> 0 | E12: =COUNTIF(세부시간표!$D$41:$F$52,$B12) -> 0 | F12: =COUNTIF(세부시간표!$D$57:$F$68,$B12) -> 0 | G12: =COUNTIF(세부시간표!$D$75:$E$86,$B12) -> 0 | H12: =COUNTIF(세부시간표!$D$91:$D$102,$B12) -> 0 | I12: =COUNTIF(세부시간표!$D$109:$E$120,$B12) -> 0 | J12: =COUNTIF(세부시간표!$G$110:$H$120,$B12) -> 0 | K12: =COUNTIF(세부시간표!$D$143:$E$154,$B12) -> 0 | L12: =COUNTIF(세부시간표!$H$143:$H$154,$B12) -> 0 | M12: =COUNTIF(세부시간표!$F$177:$H$188,$B12) -> 0 | N12: =COUNTIF(세부시간표!$D$195:$H$206,$B12) -> 0 | O12: =COUNTIF(세부시간표!$D$214:$H$225,$B12) -> 0 | P12: =COUNTIF(세부시간표!$D$231:$H$242,$B12) -> 0 | Q12: =COUNTIF(세부시간표!$D$248:$H$261,$B12) -> 0 | R12: =COUNTIF(세부시간표!$D$267:$H$278,$B12) -> 0 | S12: =COUNTIF(세부시간표!$D$286:$H$297,$B12) -> 0 | T12: =COUNTIF(세부시간표!$D$303:$H$314,$B12) -> 0 | U12: =COUNTIF(세부시간표!$D$322:$H$333,$B12) -> 0 | V12: =COUNTIF(세부시간표!$D$339:$H$350,$B12) -> 0 | W12: =COUNTIF(세부시간표!$D$358:$H$369,$B12) -> 0 | X12: =COUNTIF(세부시간표!$D$375:$H$386,$B12) -> 0 | Y12: =SUM(C12:X12) -> 0
B13: NCS 소양교과 소계 | C13: =SUM(C11:C12) -> 0 | D13: =SUM(D11:D12) -> 0 | E13: =SUM(E11:E12) -> 0 | F13: =SUM(F11:F12) -> 0 | G13: =SUM(G11:G12) -> 0 | H13: =SUM(H11:H12) -> 0 | I13: =SUM(I11:I12) -> 0 | J13: =SUM(J11:J12) -> 0 | ... X13: =SUM(X11:X12) -> 0 | Y13: =SUM(C13:X13) -> 0
A14: NCS 전공교과 | B14: 한식 국・탕조리 | C14: =COUNTIF(세부시간표!$D$7:$F$18,$B14) -> 0 | D14: 2 | F14: 3 | G14: 1 | I14: 1 | L14: =COUNTIF(세부시간표!$H$143:$H$154,$B14) -> 0 | M14: =COUNTIF(세부시간표!$F$177:$H$188,$B14) -> 0 | N14: =COUNTIF(세부시간표!$D$195:$H$206,$B14) -> 0 | O14: =COUNTIF(세부시간표!$D$214:$H$225,$B14) -> 0 | P14: =COUNTIF(세부시간표!$D$231:$H$242,$B14) -> 0 | Q14: =COUNTIF(세부시간표!$D$248:$H$261,$B14) -> 0 | R14: =COUNTIF(세부시간표!$D$267:$H$278,$B14) -> 0 | S14: =COUNTIF(세부시간표!$D$286:$H$297,$B14) -> 0 | T14: =COUNTIF(세부시간표!$D$303:$H$314,$B14) -> 0 | U14: =COUNTIF(세부시간표!$D$322:$H$333,$B14) -> 0 | V14: =COUNTIF(세부시간표!$D$339:$H$350,$B14) -> 0 | W14: =COUNTIF(세부시간표!$D$358:$H$369,$B14) -> 0 | X14: =COUNTIF(세부시간표!$D$375:$H$386,$B14) -> 0 | Y14: =SUM(C14:X14) -> 7
B15: 한식찌개조리 | L15: =COUNTIF(세부시간표!$H$143:$H$154,$B15) -> 0 | M15: =COUNTIF(세부시간표!$F$177:$H$188,$B15) -> 0 | N15: =COUNTIF(세부시간표!$D$195:$H$206,$B15) -> 0 | O15: =COUNTIF(세부시간표!$D$214:$H$225,$B15) -> 0 | P15: =COUNTIF(세부시간표!$D$231:$H$242,$B15) -> 0 | Q15: =COUNTIF(세부시간표!$D$248:$H$261,$B15) -> 0 | R15: =COUNTIF(세부시간표!$D$267:$H$278,$B15) -> 0 | S15: =COUNTIF(세부시간표!$D$286:$H$297,$B15) -> 0 | T15: =COUNTIF(세부시간표!$D$303:$H$314,$B15) -> 0 | U15: =COUNTIF(세부시간표!$D$322:$H$333,$B15) -> 0 | V15: =COUNTIF(세부시간표!$D$339:$H$350,$B15) -> 0 | W15: =COUNTIF(세부시간표!$D$358:$H$369,$B15) -> 0 | X15: =COUNTIF(세부시간표!$D$375:$H$386,$B15) -> 0 | Y15: =SUM(C15:X15) -> 0
B16: 한식전골조리 | H16: 1 | I16: 2 | K16: 2 | L16: =COUNTIF(세부시간표!$H$143:$H$154,$B16) -> 0 | M16: =COUNTIF(세부시간표!$F$177:$H$188,$B16) -> 0 | N16: =COUNTIF(세부시간표!$D$195:$H$206,$B16) -> 0 | O16: =COUNTIF(세부시간표!$D$214:$H$225,$B16) -> 0 | P16: =COUNTIF(세부시간표!$D$231:$H$242,$B16) -> 0 | Q16: =COUNTIF(세부시간표!$D$248:$H$261,$B16) -> 0 | R16: =COUNTIF(세부시간표!$D$267:$H$278,$B16) -> 0 | S16: =COUNTIF(세부시간표!$D$286:$H$297,$B16) -> 0 | T16: =COUNTIF(세부시간표!$D$303:$H$314,$B16) -> 0 | U16: =COUNTIF(세부시간표!$D$322:$H$333,$B16) -> 0 | V16: =COUNTIF(세부시간표!$D$339:$H$350,$B16) -> 0 | W16: =COUNTIF(세부시간표!$D$358:$H$369,$B16) -> 0 | X16: =COUNTIF(세부시간표!$D$375:$H$386,$B16) -> 0 | Y16: =SUM(C16:X16) -> 5
B17: 한식 생채・회조리 | C17: 2 | D17: 4 | E17: 3 | F17: 4 | K17: 1 | L17: =COUNTIF(세부시간표!$H$143:$H$154,$B17) -> 0 | M17: =COUNTIF(세부시간표!$F$177:$H$188,$B17) -> 0 | N17: =COUNTIF(세부시간표!$D$195:$H$206,$B17) -> 0 | O17: =COUNTIF(세부시간표!$D$214:$H$225,$B17) -> 0 | P17: =COUNTIF(세부시간표!$D$231:$H$242,$B17) -> 0 | Q17: =COUNTIF(세부시간표!$D$248:$H$261,$B17) -> 0 | R17: =COUNTIF(세부시간표!$D$267:$H$278,$B17) -> 0 | S17: =COUNTIF(세부시간표!$D$286:$H$297,$B17) -> 0 | T17: =COUNTIF(세부시간표!$D$303:$H$314,$B17) -> 0 | U17: =COUNTIF(세부시간표!$D$322:$H$333,$B17) -> 0 | V17: =COUNTIF(세부시간표!$D$339:$H$350,$B17) -> 0 | W17: =COUNTIF(세부시간표!$D$358:$H$369,$B17) -> 0 | X17: =COUNTIF(세부시간표!$D$375:$H$386,$B17) -> 0 | Y17: =SUM(C17:X17) -> 14
B18: 한식 죽조리 | C18: =COUNTIF(세부시간표!$D$7:$F$18,$B18) -> 0 | D18: 1 | L18: =COUNTIF(세부시간표!$H$143:$H$154,$B18) -> 0 | M18: =COUNTIF(세부시간표!$F$177:$H$188,$B18) -> 0 | N18: =COUNTIF(세부시간표!$D$195:$H$206,$B18) -> 0 | O18: =COUNTIF(세부시간표!$D$214:$H$225,$B18) -> 0 | P18: =COUNTIF(세부시간표!$D$231:$H$242,$B18) -> 0 | Q18: =COUNTIF(세부시간표!$D$248:$H$261,$B18) -> 0 | R18: =COUNTIF(세부시간표!$D$267:$H$278,$B18) -> 0 | S18: =COUNTIF(세부시간표!$D$286:$H$297,$B18) -> 0 | T18: =COUNTIF(세부시간표!$D$303:$H$314,$B18) -> 0 | U18: =COUNTIF(세부시간표!$D$322:$H$333,$B18) -> 0 | V18: =COUNTIF(세부시간표!$D$339:$H$350,$B18) -> 0 | W18: =COUNTIF(세부시간표!$D$358:$H$369,$B18) -> 0 | X18: =COUNTIF(세부시간표!$D$375:$H$386,$B18) -> 0 | Y18: =SUM(C18:X18) -> 1
B19: 한식 찌개조리 | C19: 1 | D19: =COUNTIF(세부시간표!$E$23:$F$34,$B19) -> 0 | E19: 3 | F19: 2 | L19: =COUNTIF(세부시간표!$H$143:$H$154,$B19) -> 0 | M19: =COUNTIF(세부시간표!$F$177:$H$188,$B19) -> 0 | N19: =COUNTIF(세부시간표!$D$195:$H$206,$B19) -> 0 | O19: =COUNTIF(세부시간표!$D$214:$H$225,$B19) -> 0 | P19: =COUNTIF(세부시간표!$D$231:$H$242,$B19) -> 0 | Q19: =COUNTIF(세부시간표!$D$248:$H$261,$B19) -> 0 | R19: =COUNTIF(세부시간표!$D$267:$H$278,$B19) -> 0 | S19: =COUNTIF(세부시간표!$D$286:$H$297,$B19) -> 0 | T19: =COUNTIF(세부시간표!$D$303:$H$314,$B19) -> 0 | U19: =COUNTIF(세부시간표!$D$322:$H$333,$B19) -> 0 | V19: =COUNTIF(세부시간표!$D$339:$H$350,$B19) -> 0 | W19: =COUNTIF(세부시간표!$D$358:$H$369,$B19) -> 0 | X19: =COUNTIF(세부시간표!$D$375:$H$386,$B19) -> 0 | Y19: =SUM(C19:X19) -> 6
B20: 한식 전・적조리 | C20: 1 | D20: 2 | E20: 2 | F20: 2 | L20: =COUNTIF(세부시간표!$H$143:$H$154,$B20) -> 0 | M20: =COUNTIF(세부시간표!$F$177:$H$188,$B20) -> 0 | N20: =COUNTIF(세부시간표!$D$195:$H$206,$B20) -> 0 | O20: =COUNTIF(세부시간표!$D$214:$H$225,$B20) -> 0 | P20: =COUNTIF(세부시간표!$D$231:$H$242,$B20) -> 0 | Q20: =COUNTIF(세부시간표!$D$248:$H$261,$B20) -> 0 | R20: =COUNTIF(세부시간표!$D$267:$H$278,$B20) -> 0 | S20: =COUNTIF(세부시간표!$D$286:$H$297,$B20) -> 0 | T20: =COUNTIF(세부시간표!$D$303:$H$314,$B20) -> 0 | U20: =COUNTIF(세부시간표!$D$322:$H$333,$B20) -> 0 | V20: =COUNTIF(세부시간표!$D$339:$H$350,$B20) -> 0 | W20: =COUNTIF(세부시간표!$D$358:$H$369,$B20) -> 0 | X20: =COUNTIF(세부시간표!$D$375:$H$386,$B20) -> 0 | Y20: =SUM(C20:X20) -> 7
B21: 한식 밥조리 | C21: 1 | D21: 1 | E21: 2 | F21: 2 | L21: =COUNTIF(세부시간표!$H$143:$H$154,$B21) -> 0 | M21: =COUNTIF(세부시간표!$F$177:$H$188,$B21) -> 0 | N21: =COUNTIF(세부시간표!$D$195:$H$206,$B21) -> 0 | O21: =COUNTIF(세부시간표!$D$214:$H$225,$B21) -> 0 | P21: =COUNTIF(세부시간표!$D$231:$H$242,$B21) -> 0 | Q21: =COUNTIF(세부시간표!$D$248:$H$261,$B21) -> 0 | R21: =COUNTIF(세부시간표!$D$267:$H$278,$B21) -> 0 | S21: =COUNTIF(세부시간표!$D$286:$H$297,$B21) -> 0 | T21: =COUNTIF(세부시간표!$D$303:$H$314,$B21) -> 0 | U21: =COUNTIF(세부시간표!$D$322:$H$333,$B21) -> 0 | V21: =COUNTIF(세부시간표!$D$339:$H$350,$B21) -> 0 | W21: =COUNTIF(세부시간표!$D$358:$H$369,$B21) -> 0 | X21: =COUNTIF(세부시간표!$D$375:$H$386,$B21) -> 0 | Y21: =SUM(C21:X21) -> 6
B22: 한식죽조리 | C22: 1 | D22: =COUNTIF(세부시간표!$E$23:$F$34,$B22) -> 1 | E22: 2 | F22: 2 | G22: 1 | L22: =COUNTIF(세부시간표!$H$143:$H$154,$B22) -> 0 | M22: =COUNTIF(세부시간표!$F$177:$H$188,$B22) -> 0 | N22: =COUNTIF(세부시간표!$D$195:$H$206,$B22) -> 0 | O22: =COUNTIF(세부시간표!$D$214:$H$225,$B22) -> 0 | P22: =COUNTIF(세부시간표!$D$231:$H$242,$B22) -> 0 | Q22: =COUNTIF(세부시간표!$D$248:$H$261,$B22) -> 0 | R22: =COUNTIF(세부시간표!$D$267:$H$278,$B22) -> 0 | S22: =COUNTIF(세부시간표!$D$286:$H$297,$B22) -> 0 | T22: =COUNTIF(세부시간표!$D$303:$H$314,$B22) -> 0 | U22: =COUNTIF(세부시간표!$D$322:$H$333,$B22) -> 0 | V22: =COUNTIF(세부시간표!$D$339:$H$350,$B22) -> 0 | W22: =COUNTIF(세부시간표!$D$358:$H$369,$B22) -> 0 | X22: =COUNTIF(세부시간표!$D$375:$H$386,$B22) -> 0 | Y22: =SUM(C22:X22) -> 7
B23: 한식구이조리 | C23: =COUNTIF(세부시간표!$D$7:$F$18,$B23) -> 0 | D23: =COUNTIF(세부시간표!$E$23:$F$34,$B23) -> 0 | H23: 1 | I23: 2 | K23: 3 | L23: 1 | M23: =COUNTIF(세부시간표!$F$177:$H$188,$B23) -> 0 | N23: =COUNTIF(세부시간표!$D$195:$H$206,$B23) -> 0 | O23: =COUNTIF(세부시간표!$D$214:$H$225,$B23) -> 0 | P23: =COUNTIF(세부시간표!$D$231:$H$242,$B23) -> 0 | Q23: =COUNTIF(세부시간표!$D$248:$H$261,$B23) -> 0 | R23: =COUNTIF(세부시간표!$D$267:$H$278,$B23) -> 0 | S23: =COUNTIF(세부시간표!$D$286:$H$297,$B23) -> 0 | T23: =COUNTIF(세부시간표!$D$303:$H$314,$B23) -> 0 | U23: =COUNTIF(세부시간표!$D$322:$H$333,$B23) -> 0 | V23: =COUNTIF(세부시간표!$D$339:$H$350,$B23) -> 0 | W23: =COUNTIF(세부시간표!$D$358:$H$369,$B23) -> 0 | X23: =COUNTIF(세부시간표!$D$375:$H$386,$B23) -> 0 | Y23: =SUM(C23:X23) -> 7
B24: 한식튀김조리 | C24: =COUNTIF(세부시간표!$D$7:$F$18,$B24) -> 0 | D24: =COUNTIF(세부시간표!$E$23:$F$34,$B24) -> 0 | H24: 1 | I24: 1 | K24: 2 | L24: 2 | M24: 3 | N24: =COUNTIF(세부시간표!$D$195:$H$206,$B24) -> 0 | O24: =COUNTIF(세부시간표!$D$214:$H$225,$B24) -> 0 | P24: =COUNTIF(세부시간표!$D$231:$H$242,$B24) -> 0 | Q24: =COUNTIF(세부시간표!$D$248:$H$261,$B24) -> 0 | R24: =COUNTIF(세부시간표!$D$267:$H$278,$B24) -> 0 | S24: =COUNTIF(세부시간표!$D$286:$H$297,$B24) -> 0 | T24: =COUNTIF(세부시간표!$D$303:$H$314,$B24) -> 0 | U24: =COUNTIF(세부시간표!$D$322:$H$333,$B24) -> 0 | V24: =COUNTIF(세부시간표!$D$339:$H$350,$B24) -> 0 | W24: =COUNTIF(세부시간표!$D$358:$H$369,$B24) -> 0 | X24: =COUNTIF(세부시간표!$D$375:$H$386,$B24) -> 0 | Y24: =SUM(C24:X24) -> 9
B25: 김치조리 | C25: =COUNTIF(세부시간표!$D$7:$F$18,$B25) -> 0 | D25: =COUNTIF(세부시간표!$E$23:$F$34,$B25) -> 0 | G25: 1 | H25: 2 | I25: 3 | J25: 2 | K25: 2 | L25: =COUNTIF(세부시간표!$H$143:$H$154,$B25) -> 0 | M25: =COUNTIF(세부시간표!$F$177:$H$188,$B25) -> 0 | N25: =COUNTIF(세부시간표!$D$195:$H$206,$B25) -> 0 | O25: =COUNTIF(세부시간표!$D$214:$H$225,$B25) -> 0 | P25: =COUNTIF(세부시간표!$D$231:$H$242,$B25) -> 0 | Q25: =COUNTIF(세부시간표!$D$248:$H$261,$B25) -> 0 | R25: =COUNTIF(세부시간표!$D$267:$H$278,$B25) -> 0 | S25: =COUNTIF(세부시간표!$D$286:$H$297,$B25) -> 0 | T25: =COUNTIF(세부시간표!$D$303:$H$314,$B25) -> 0 | U25: =COUNTIF(세부시간표!$D$322:$H$333,$B25) -> 0 | V25: =COUNTIF(세부시간표!$D$339:$H$350,$B25) -> 0 | W25: =COUNTIF(세부시간표!$D$358:$H$369,$B25) -> 0 | X25: =COUNTIF(세부시간표!$D$375:$H$386,$B25) -> 0 | Y25: =SUM(C25:X25) -> 10
B26: 장아찌조리 | C26: =COUNTIF(세부시간표!$D$7:$F$18,$B26) -> 0 | D26: =COUNTIF(세부시간표!$E$23:$F$34,$B26) -> 0 | G26: 2 | H26: 1 | K26: 1 | L26: 1 | M26: =COUNTIF(세부시간표!$F$177:$H$188,$B26) -> 0 | N26: =COUNTIF(세부시간표!$D$195:$H$206,$B26) -> 0 | O26: =COUNTIF(세부시간표!$D$214:$H$225,$B26) -> 0 | P26: =COUNTIF(세부시간표!$D$231:$H$242,$B26) -> 0 | Q26: =COUNTIF(세부시간표!$D$248:$H$261,$B26) -> 0 | R26: =COUNTIF(세부시간표!$D$267:$H$278,$B26) -> 0 | S26: =COUNTIF(세부시간표!$D$286:$H$297,$B26) -> 0 | T26: =COUNTIF(세부시간표!$D$303:$H$314,$B26) -> 0 | U26: =COUNTIF(세부시간표!$D$322:$H$333,$B26) -> 0 | V26: =COUNTIF(세부시간표!$D$339:$H$350,$B26) -> 0 | W26: =COUNTIF(세부시간표!$D$358:$H$369,$B26) -> 0 | X26: =COUNTIF(세부시간표!$D$375:$H$386,$B26) -> 0 | Y26: =SUM(C26:X26) -> 5
B27: 한식숙채조리 | C27: =COUNTIF(세부시간표!$D$7:$F$18,$B27) -> 0 | D27: =COUNTIF(세부시간표!$E$23:$F$34,$B27) -> 0 | H27: 2 | J27: 4 | K27: 2 | L27: 2 | M27: 1 | N27: =COUNTIF(세부시간표!$D$195:$H$206,$B27) -> 0 | O27: =COUNTIF(세부시간표!$D$214:$H$225,$B27) -> 0 | P27: =COUNTIF(세부시간표!$D$231:$H$242,$B27) -> 0 | Q27: =COUNTIF(세부시간표!$D$248:$H$261,$B27) -> 0 | R27: =COUNTIF(세부시간표!$D$267:$H$278,$B27) -> 0 | S27: =COUNTIF(세부시간표!$D$286:$H$297,$B27) -> 0 | T27: =COUNTIF(세부시간표!$D$303:$H$314,$B27) -> 0 | U27: =COUNTIF(세부시간표!$D$322:$H$333,$B27) -> 0 | V27: =COUNTIF(세부시간표!$D$339:$H$350,$B27) -> 0 | W27: =COUNTIF(세부시간표!$D$358:$H$369,$B27) -> 0 | X27: =COUNTIF(세부시간표!$D$375:$H$386,$B27) -> 0 | Y27: =SUM(C27:X27) -> 11
B28: 한식면류조리 | C28: =COUNTIF(세부시간표!$D$7:$F$18,$B28) -> 0 | D28: =COUNTIF(세부시간표!$E$23:$F$34,$B28) -> 0 | E28: =COUNTIF(세부시간표!$D$41:$F$52,$B28) -> 0 | F28: =COUNTIF(세부시간표!$D$57:$F$68,$B28) -> 0 | G28: =COUNTIF(세부시간표!$D$75:$E$86,$B28) -> 0 | H28: 1 | I28: =COUNTIF(세부시간표!$D$109:$E$120,$B28) -> 0 | J28: 2 | K28: 1 | L28: 4 | M28: =COUNTIF(세부시간표!$F$177:$H$188,$B28) -> 0 | N28: =COUNTIF(세부시간표!$D$195:$H$206,$B28) -> 0 | O28: =COUNTIF(세부시간표!$D$214:$H$225,$B28) -> 0 | P28: =COUNTIF(세부시간표!$D$231:$H$242,$B28) -> 0 | Q28: =COUNTIF(세부시간표!$D$248:$H$261,$B28) -> 0 | R28: =COUNTIF(세부시간표!$D$267:$H$278,$B28) -> 0 | S28: =COUNTIF(세부시간표!$D$286:$H$297,$B28) -> 0 | T28: =COUNTIF(세부시간표!$D$303:$H$314,$B28) -> 0 | U28: =COUNTIF(세부시간표!$D$322:$H$333,$B28) -> 0 | V28: =COUNTIF(세부시간표!$D$339:$H$350,$B28) -> 0 | W28: =COUNTIF(세부시간표!$D$358:$H$369,$B28) -> 0 | X28: =COUNTIF(세부시간표!$D$375:$H$386,$B28) -> 0 | Y28: =SUM(C28:X28) -> 8
B29: 한식찜선조리 | C29: =COUNTIF(세부시간표!$D$7:$F$18,$B29) -> 0 | D29: =COUNTIF(세부시간표!$E$23:$F$34,$B29) -> 0 | E29: =COUNTIF(세부시간표!$D$41:$F$52,$B29) -> 0 | F29: =COUNTIF(세부시간표!$D$57:$F$68,$B29) -> 0 | G29: =COUNTIF(세부시간표!$D$75:$E$86,$B29) -> 0 | H29: 1 | I29: 1 | J29: 2 | K29: =COUNTIF(세부시간표!$D$143:$E$154,$B29) -> 0 | L29: 2 | M29: =COUNTIF(세부시간표!$F$177:$H$188,$B29) -> 0 | N29: =COUNTIF(세부시간표!$D$195:$H$206,$B29) -> 0 | O29: =COUNTIF(세부시간표!$D$214:$H$225,$B29) -> 0 | P29: =COUNTIF(세부시간표!$D$231:$H$242,$B29) -> 0 | Q29: =COUNTIF(세부시간표!$D$248:$H$261,$B29) -> 0 | R29: =COUNTIF(세부시간표!$D$267:$H$278,$B29) -> 0 | S29: =COUNTIF(세부시간표!$D$286:$H$297,$B29) -> 0 | T29: =COUNTIF(세부시간표!$D$303:$H$314,$B29) -> 0 | U29: =COUNTIF(세부시간표!$D$322:$H$333,$B29) -> 0 | V29: =COUNTIF(세부시간표!$D$339:$H$350,$B29) -> 0 | W29: =COUNTIF(세부시간표!$D$358:$H$369,$B29) -> 0 | X29: =COUNTIF(세부시간표!$D$375:$H$386,$B29) -> 0 | Y29: =SUM(C29:X29) -> 6
B30: 한식볶음조리 | C30: 1 | D30: =COUNTIF(세부시간표!$E$23:$F$34,$B30) -> 0 | E30: =COUNTIF(세부시간표!$D$41:$F$52,$B30) -> 0 | F30: =COUNTIF(세부시간표!$D$57:$F$68,$B30) -> 0 | G30: =COUNTIF(세부시간표!$D$75:$E$86,$B30) -> 0 | H30: =COUNTIF(세부시간표!$D$91:$D$102,$B30) -> 0 | I30: 2 | J30: 5 | K30: 1 | L30: 3 | M30: 3 | N30: =COUNTIF(세부시간표!$D$195:$H$206,$B30) -> 0 | O30: =COUNTIF(세부시간표!$D$214:$H$225,$B30) -> 0 | P30: =COUNTIF(세부시간표!$D$231:$H$242,$B30) -> 0 | Q30: =COUNTIF(세부시간표!$D$248:$H$261,$B30) -> 0 | R30: =COUNTIF(세부시간표!$D$267:$H$278,$B30) -> 0 | S30: =COUNTIF(세부시간표!$D$286:$H$297,$B30) -> 0 | T30: =COUNTIF(세부시간표!$D$303:$H$314,$B30) -> 0 | U30: =COUNTIF(세부시간표!$D$322:$H$333,$B30) -> 0 | V30: =COUNTIF(세부시간표!$D$339:$H$350,$B30) -> 0 | W30: =COUNTIF(세부시간표!$D$358:$H$369,$B30) -> 0 | X30: =COUNTIF(세부시간표!$D$375:$H$386,$B30) -> 0 | Y30: =SUM(C30:X30) -> 15
B31: 한식조림초조리 | C31: =COUNTIF(세부시간표!$D$7:$F$18,$B31) -> 0 | D31: =COUNTIF(세부시간표!$E$23:$F$34,$B31) -> 0 | E31: =COUNTIF(세부시간표!$D$41:$F$52,$B31) -> 0 | F31: =COUNTIF(세부시간표!$D$57:$F$68,$B31) -> 0 | G31: 10 | H31: =COUNTIF(세부시간표!$D$91:$D$102,$B31) -> 0 | I31: =COUNTIF(세부시간표!$D$109:$E$120,$B31) -> 0 | J31: =COUNTIF(세부시간표!$G$110:$H$120,$B31) -> 0 | K31: =COUNTIF(세부시간표!$D$143:$E$154,$B31) -> 0 | L31: =COUNTIF(세부시간표!$H$143:$H$154,$B31) -> 0 | M31: 2 | N31: =COUNTIF(세부시간표!$D$195:$H$206,$B31) -> 0 | O31: =COUNTIF(세부시간표!$D$214:$H$225,$B31) -> 0 | P31: =COUNTIF(세부시간표!$D$231:$H$242,$B31) -> 0 | Q31: =COUNTIF(세부시간표!$D$248:$H$261,$B31) -> 0 | R31: =COUNTIF(세부시간표!$D$267:$H$278,$B31) -> 0 | S31: =COUNTIF(세부시간표!$D$286:$H$297,$B31) -> 0 | T31: =COUNTIF(세부시간표!$D$303:$H$314,$B31) -> 0 | U31: =COUNTIF(세부시간표!$D$322:$H$333,$B31) -> 0 | V31: =COUNTIF(세부시간표!$D$339:$H$350,$B31) -> 0 | W31: =COUNTIF(세부시간표!$D$358:$H$369,$B31) -> 0 | X31: =COUNTIF(세부시간표!$D$375:$H$386,$B31) -> 0 | Y31: =SUM(C31:X31) -> 12
C32: =COUNTIF(세부시간표!$D$7:$F$18,$B32) -> 0 | D32: =COUNTIF(세부시간표!$E$23:$F$34,$B32) -> 0 | E32: =COUNTIF(세부시간표!$D$41:$F$52,$B32) -> 0 | F32: =COUNTIF(세부시간표!$D$57:$F$68,$B32) -> 0 | G32: =COUNTIF(세부시간표!$D$75:$E$86,$B32) -> 0 | H32: =COUNTIF(세부시간표!$D$91:$D$102,$B32) -> 0 | I32: =COUNTIF(세부시간표!$D$109:$E$120,$B32) -> 0 | J32: =COUNTIF(세부시간표!$G$110:$H$120,$B32) -> 0 | K32: =COUNTIF(세부시간표!$D$143:$E$154,$B32) -> 0 | L32: =COUNTIF(세부시간표!$H$143:$H$154,$B32) -> 0 | M32: =COUNTIF(세부시간표!$F$177:$H$188,$B32) -> 0 | N32: =COUNTIF(세부시간표!$D$195:$H$206,$B32) -> 0 | O32: =COUNTIF(세부시간표!$D$214:$H$225,$B32) -> 0 | P32: =COUNTIF(세부시간표!$D$231:$H$242,$B32) -> 0 | Q32: =COUNTIF(세부시간표!$D$248:$H$261,$B32) -> 0 | R32: =COUNTIF(세부시간표!$D$267:$H$278,$B32) -> 0 | S32: =COUNTIF(세부시간표!$D$286:$H$297,$B32) -> 0 | T32: =COUNTIF(세부시간표!$D$303:$H$314,$B32) -> 0 | U32: =COUNTIF(세부시간표!$D$322:$H$333,$B32) -> 0 | V32: =COUNTIF(세부시간표!$D$339:$H$350,$B32) -> 0 | W32: =COUNTIF(세부시간표!$D$358:$H$369,$B32) -> 0 | X32: =COUNTIF(세부시간표!$D$375:$H$386,$B32) -> 0 | Y32: =SUM(C32:X32) -> 0
C33: =COUNTIF(세부시간표!$D$7:$F$18,$B33) -> 0 | D33: =COUNTIF(세부시간표!$E$23:$F$34,$B33) -> 0 | E33: =COUNTIF(세부시간표!$D$41:$F$52,$B33) -> 0 | F33: =COUNTIF(세부시간표!$D$57:$F$68,$B33) -> 0 | G33: =COUNTIF(세부시간표!$D$75:$E$86,$B33) -> 0 | H33: =COUNTIF(세부시간표!$D$91:$D$102,$B33) -> 0 | I33: =COUNTIF(세부시간표!$D$109:$E$120,$B33) -> 0 | J33: =COUNTIF(세부시간표!$G$110:$H$120,$B33) -> 0 | K33: =COUNTIF(세부시간표!$D$143:$E$154,$B33) -> 0 | L33: =COUNTIF(세부시간표!$H$143:$H$154,$B33) -> 0 | M33: =COUNTIF(세부시간표!$F$177:$H$188,$B33) -> 0 | N33: =COUNTIF(세부시간표!$D$195:$H$206,$B33) -> 0 | O33: =COUNTIF(세부시간표!$D$214:$H$225,$B33) -> 0 | P33: =COUNTIF(세부시간표!$D$231:$H$242,$B33) -> 0 | Q33: =COUNTIF(세부시간표!$D$248:$H$261,$B33) -> 0 | R33: =COUNTIF(세부시간표!$D$267:$H$278,$B33) -> 0 | S33: =COUNTIF(세부시간표!$D$286:$H$297,$B33) -> 0 | T33: =COUNTIF(세부시간표!$D$303:$H$314,$B33) -> 0 | U33: =COUNTIF(세부시간표!$D$322:$H$333,$B33) -> 0 | V33: =COUNTIF(세부시간표!$D$339:$H$350,$B33) -> 0 | W33: =COUNTIF(세부시간표!$D$358:$H$369,$B33) -> 0 | X33: =COUNTIF(세부시간표!$D$375:$H$386,$B33) -> 0 | Y33: =SUM(C33:X33) -> 0
C34: =COUNTIF(세부시간표!$D$7:$F$18,$B34) -> 0 | D34: =COUNTIF(세부시간표!$E$23:$F$34,$B34) -> 0 | E34: =COUNTIF(세부시간표!$D$41:$F$52,$B34) -> 0 | F34: =COUNTIF(세부시간표!$D$57:$F$68,$B34) -> 0 | G34: =COUNTIF(세부시간표!$D$75:$E$86,$B34) -> 0 | H34: =COUNTIF(세부시간표!$D$91:$D$102,$B34) -> 0 | I34: =COUNTIF(세부시간표!$D$109:$E$120,$B34) -> 0 | J34: =COUNTIF(세부시간표!$G$110:$H$120,$B34) -> 0 | K34: =COUNTIF(세부시간표!$D$143:$E$154,$B34) -> 0 | L34: =COUNTIF(세부시간표!$H$143:$H$154,$B34) -> 0 | M34: =COUNTIF(세부시간표!$F$177:$H$188,$B34) -> 0 | N34: =COUNTIF(세부시간표!$D$195:$H$206,$B34) -> 0 | O34: =COUNTIF(세부시간표!$D$214:$H$225,$B34) -> 0 | P34: =COUNTIF(세부시간표!$D$231:$H$242,$B34) -> 0 | Q34: =COUNTIF(세부시간표!$D$248:$H$261,$B34) -> 0 | R34: =COUNTIF(세부시간표!$D$267:$H$278,$B34) -> 0 | S34: =COUNTIF(세부시간표!$D$286:$H$297,$B34) -> 0 | T34: =COUNTIF(세부시간표!$D$303:$H$314,$B34) -> 0 | U34: =COUNTIF(세부시간표!$D$322:$H$333,$B34) -> 0 | V34: =COUNTIF(세부시간표!$D$339:$H$350,$B34) -> 0 | W34: =COUNTIF(세부시간표!$D$358:$H$369,$B34) -> 0 | X34: =COUNTIF(세부시간표!$D$375:$H$386,$B34) -> 0 | Y34: =SUM(C34:X34) -> 0
C35: =COUNTIF(세부시간표!$D$7:$F$18,$B35) -> 0 | D35: =COUNTIF(세부시간표!$E$23:$F$34,$B35) -> 0 | E35: =COUNTIF(세부시간표!$D$41:$F$52,$B35) -> 0 | F35: =COUNTIF(세부시간표!$D$57:$F$68,$B35) -> 0 | G35: =COUNTIF(세부시간표!$D$75:$E$86,$B35) -> 0 | H35: =COUNTIF(세부시간표!$D$91:$D$102,$B35) -> 0 | I35: =COUNTIF(세부시간표!$D$109:$E$120,$B35) -> 0 | J35: =COUNTIF(세부시간표!$G$110:$H$120,$B35) -> 0 | K35: =COUNTIF(세부시간표!$D$143:$E$154,$B35) -> 0 | L35: =COUNTIF(세부시간표!$H$143:$H$154,$B35) -> 0 | M35: =COUNTIF(세부시간표!$F$177:$H$188,$B35) -> 0 | N35: =COUNTIF(세부시간표!$D$195:$H$206,$B35) -> 0 | O35: =COUNTIF(세부시간표!$D$214:$H$225,$B35) -> 0 | P35: =COUNTIF(세부시간표!$D$231:$H$242,$B35) -> 0 | Q35: =COUNTIF(세부시간표!$D$248:$H$261,$B35) -> 0 | R35: =COUNTIF(세부시간표!$D$267:$H$278,$B35) -> 0 | S35: =COUNTIF(세부시간표!$D$286:$H$297,$B35) -> 0 | T35: =COUNTIF(세부시간표!$D$303:$H$314,$B35) -> 0 | U35: =COUNTIF(세부시간표!$D$322:$H$333,$B35) -> 0 | V35: =COUNTIF(세부시간표!$D$339:$H$350,$B35) -> 0 | W35: =COUNTIF(세부시간표!$D$358:$H$369,$B35) -> 0 | X35: =COUNTIF(세부시간표!$D$375:$H$386,$B35) -> 0 | Y35: =SUM(C35:X35) -> 0
B36: NCS 전공교과 소계 | C36: 7 | D36: 10 | E36: 12 | F36: =SUM(F14:F35) -> 15 | G36: =SUM(G14:G35) -> 15 | H36: 10 | I36: 12 | J36: 15 | K36: 15 | L36: 15 | M36: 9 | N36: =SUM(N14:N35) -> 0 | O36: =SUM(O14:O35) -> 0 | P36: =SUM(P14:P35) -> 0 | Q36: =SUM(Q14:Q35) -> 0 | R36: =SUM(R14:R35) -> 0 | S36: =SUM(S14:S35) -> 0 | T36: =SUM(T14:T35) -> 0 | U36: =SUM(U14:U35) -> 0 | ... X36: =SUM(X14:X35) -> 0 | Y36: 135
A37: 비NCS 교과(이론) | C37: =COUNTIF(세부시간표!$D$7:$F$18,$B37) -> 0 | D37: =COUNTIF(세부시간표!$E$23:$F$34,$B37) -> 0 | E37: =COUNTIF(세부시간표!$D$41:$F$52,$B37) -> 0 | F37: =COUNTIF(세부시간표!$D$57:$F$68,$B37) -> 0 | G37: =COUNTIF(세부시간표!$D$75:$E$86,$B37) -> 0 | H37: =COUNTIF(세부시간표!$D$91:$D$102,$B37) -> 0 | I37: =COUNTIF(세부시간표!$D$109:$E$120,$B37) -> 0 | J37: =COUNTIF(세부시간표!$G$110:$H$120,$B37) -> 0 | K37: =COUNTIF(세부시간표!$D$143:$E$154,$B37) -> 0 | L37: =COUNTIF(세부시간표!$H$143:$H$154,$B37) -> 0 | M37: =COUNTIF(세부시간표!$F$177:$H$188,$B37) -> 0 | N37: =COUNTIF(세부시간표!$D$195:$H$206,$B37) -> 0 | O37: =COUNTIF(세부시간표!$D$214:$H$225,$B37) -> 0 | P37: =COUNTIF(세부시간표!$D$231:$H$242,$B37) -> 0 | Q37: =COUNTIF(세부시간표!$D$248:$H$261,$B37) -> 0 | R37: =COUNTIF(세부시간표!$D$267:$H$278,$B37) -> 0 | S37: =COUNTIF(세부시간표!$D$286:$H$297,$B37) -> 0 | T37: =COUNTIF(세부시간표!$D$303:$H$314,$B37) -> 0 | U37: =COUNTIF(세부시간표!$D$322:$H$333,$B37) -> 0 | V37: =COUNTIF(세부시간표!$D$339:$H$350,$B37) -> 0 | W37: =COUNTIF(세부시간표!$D$358:$H$369,$B37) -> 0 | X37: =COUNTIF(세부시간표!$D$375:$H$386,$B37) -> 0 | Y37: =SUM(C37:X37) -> 0
C38: =COUNTIF(세부시간표!$D$7:$F$18,$B38) -> 0 | D38: =COUNTIF(세부시간표!$E$23:$F$34,$B38) -> 0 | E38: =COUNTIF(세부시간표!$D$41:$F$52,$B38) -> 0 | F38: =COUNTIF(세부시간표!$D$57:$F$68,$B38) -> 0 | G38: =COUNTIF(세부시간표!$D$75:$E$86,$B38) -> 0 | H38: =COUNTIF(세부시간표!$D$91:$D$102,$B38) -> 0 | I38: =COUNTIF(세부시간표!$D$109:$E$120,$B38) -> 0 | J38: =COUNTIF(세부시간표!$G$110:$H$120,$B38) -> 0 | K38: =COUNTIF(세부시간표!$D$143:$E$154,$B38) -> 0 | L38: =COUNTIF(세부시간표!$H$143:$H$154,$B38) -> 0 | M38: =COUNTIF(세부시간표!$F$177:$H$188,$B38) -> 0 | N38: =COUNTIF(세부시간표!$D$195:$H$206,$B38) -> 0 | O38: =COUNTIF(세부시간표!$D$214:$H$225,$B38) -> 0 | P38: =COUNTIF(세부시간표!$D$231:$H$242,$B38) -> 0 | Q38: =COUNTIF(세부시간표!$D$248:$H$261,$B38) -> 0 | R38: =COUNTIF(세부시간표!$D$267:$H$278,$B38) -> 0 | S38: =COUNTIF(세부시간표!$D$286:$H$297,$B38) -> 0 | T38: =COUNTIF(세부시간표!$D$303:$H$314,$B38) -> 0 | U38: =COUNTIF(세부시간표!$D$322:$H$333,$B38) -> 0 | V38: =COUNTIF(세부시간표!$D$339:$H$350,$B38) -> 0 | W38: =COUNTIF(세부시간표!$D$358:$H$369,$B38) -> 0 | X38: =COUNTIF(세부시간표!$D$375:$H$386,$B38) -> 0 | Y38: =SUM(C38:X38) -> 0
C39: =COUNTIF(세부시간표!$D$7:$F$18,$B39) -> 0 | D39: =COUNTIF(세부시간표!$E$23:$F$34,$B39) -> 0 | E39: =COUNTIF(세부시간표!$D$41:$F$52,$B39) -> 0 | F39: =COUNTIF(세부시간표!$D$57:$F$68,$B39) -> 0 | G39: =COUNTIF(세부시간표!$D$75:$E$86,$B39) -> 0 | H39: =COUNTIF(세부시간표!$D$91:$D$102,$B39) -> 0 | I39: =COUNTIF(세부시간표!$D$109:$E$120,$B39) -> 0 | J39: =COUNTIF(세부시간표!$G$110:$H$120,$B39) -> 0 | K39: =COUNTIF(세부시간표!$D$143:$E$154,$B39) -> 0 | L39: =COUNTIF(세부시간표!$H$143:$H$154,$B39) -> 0 | M39: =COUNTIF(세부시간표!$F$177:$H$188,$B39) -> 0 | N39: =COUNTIF(세부시간표!$D$195:$H$206,$B39) -> 0 | O39: =COUNTIF(세부시간표!$D$214:$H$225,$B39) -> 0 | P39: =COUNTIF(세부시간표!$D$231:$H$242,$B39) -> 0 | Q39: =COUNTIF(세부시간표!$D$248:$H$261,$B39) -> 0 | R39: =COUNTIF(세부시간표!$D$267:$H$278,$B39) -> 0 | S39: =COUNTIF(세부시간표!$D$286:$H$297,$B39) -> 0 | T39: =COUNTIF(세부시간표!$D$303:$H$314,$B39) -> 0 | U39: =COUNTIF(세부시간표!$D$322:$H$333,$B39) -> 0 | V39: =COUNTIF(세부시간표!$D$339:$H$350,$B39) -> 0 | W39: =COUNTIF(세부시간표!$D$358:$H$369,$B39) -> 0 | X39: =COUNTIF(세부시간표!$D$375:$H$386,$B39) -> 0 | Y39: =SUM(C39:X39) -> 0
C40: =COUNTIF(세부시간표!$D$7:$F$18,$B40) -> 0 | D40: =COUNTIF(세부시간표!$E$23:$F$34,$B40) -> 0 | E40: =COUNTIF(세부시간표!$D$41:$F$52,$B40) -> 0 | F40: =COUNTIF(세부시간표!$D$57:$F$68,$B40) -> 0 | G40: =COUNTIF(세부시간표!$D$75:$E$86,$B40) -> 0 | H40: =COUNTIF(세부시간표!$D$91:$D$102,$B40) -> 0 | I40: =COUNTIF(세부시간표!$D$109:$E$120,$B40) -> 0 | J40: =COUNTIF(세부시간표!$G$110:$H$120,$B40) -> 0 | K40: =COUNTIF(세부시간표!$D$143:$E$154,$B40) -> 0 | L40: =COUNTIF(세부시간표!$H$143:$H$154,$B40) -> 0 | M40: =COUNTIF(세부시간표!$F$177:$H$188,$B40) -> 0 | N40: =COUNTIF(세부시간표!$D$195:$H$206,$B40) -> 0 | O40: =COUNTIF(세부시간표!$D$214:$H$225,$B40) -> 0 | P40: =COUNTIF(세부시간표!$D$231:$H$242,$B40) -> 0 | Q40: =COUNTIF(세부시간표!$D$248:$H$261,$B40) -> 0 | R40: =COUNTIF(세부시간표!$D$267:$H$278,$B40) -> 0 | S40: =COUNTIF(세부시간표!$D$286:$H$297,$B40) -> 0 | T40: =COUNTIF(세부시간표!$D$303:$H$314,$B40) -> 0 | U40: =COUNTIF(세부시간표!$D$322:$H$333,$B40) -> 0 | V40: =COUNTIF(세부시간표!$D$339:$H$350,$B40) -> 0 | W40: =COUNTIF(세부시간표!$D$358:$H$369,$B40) -> 0 | X40: =COUNTIF(세부시간표!$D$375:$H$386,$B40) -> 0 | Y40: =SUM(C40:X40) -> 0
...

Sheet 세부시간표
A1: =YEAR(D5) & "년 " & MONTH(D5) & "월" &" " & WEEKNUM(D5,2)-WEEKNUM(D5-DAY(D5)+1,2) & "주차시간표" -> 2022년 11월 1주차시간표
A2: 훈련과정명 | C2: 반찬조리실무과정 8회 | F2: 훈련시간 | G2: 14:00~17:00
A3: 훈련기간 | C3: 2022.11.09~2023.01.11 (총훈련일46일, 138시간) | F3: 훈련교사 | G3: 김경분
A5: 교시 | B5: 시간 | C5: 구분 | D5: 44872 | E5: =D5+1 -> 44873 | F5: =E5+1 -> 44874 | G5: =F5+1 -> 44875 | H5: =G5+1 -> 44876
D6: 월요일 | E6: 화요일 | F6: 수요일 | G6: 목요일 | H6: 금요일
A7: 1 | B7: 14:00 ~ 14:50 | C7: 교과목 | F7: 조리실무이론 | G7: 조리실무이론 | H7: 조리실무이론
C8: 능력단위 | F8: 한국음식의개관 | G8: 한국음식의개관 | H8: 메뉴와 주방의이해 | I8: 조리실무이론
C9: 훈련장소 | F9: 요리 1강의실 | G9: 요리 1강의실 | H9: 요리 1강의실 | I9: 한식밥조리
C10: 훈련교사 | F10: 김경분 | G10: 김경분 | H10: 김경분 | I10: 한식죽조리
A11: 2 | B11: 15:00 ~ 15:50 | C11: 교과목 | F11: 조리실무이론 | G11: NCS 반찬조리실습 | H11: NCS 반찬조리실습 | I11: 한식국.탕.조리
C12: 능력단위 | F12: 한국음식의개관 | G12: 한식밥조리 | H12: 한식 전.적조리 | I12: 한식 생채.회조리
C13: 훈련장소 | F13: 요리 1강의실 | G13: 요리 1강의실 | H13: 요리 1강의실 | I13: 한식 전.적조리
C14: 훈련교사 | F14: 김경분 | G14: 김경분 | H14: 김경분
A15: 3 | B15: 16:00 ~ 17:00 | C15: 교과목 | F15: NCS 반찬조리실습 | G15: NCS 반찬조리실습 | H15: 비NCS 반찬조리실습 | I15: 한식찌개조리
C16: 능력단위 | F16: 한식생채.회조리 | G16: 한식생채.회조리 | H16: 반찬조리실습2 | I16: 한식조림.초조리
C17: 훈련장소 | F17: 요리 1강의실 | G17: 요리 1강의실 | H17: 요리 1강의실 | I17: 김치조리
C18: 훈련교사 | F18: 김경분 | G18: 김경분 | H18: 김경분 | I18: 장아찌조리
A19: =YEAR(D21) & "년 " & MONTH(D21) & "월" &" " & WEEKNUM(D21,2)-WEEKNUM(D21-DAY(D21)+1,2) & "주차시간표" -> 2022년 11월 2주차시간표 | I19: 한식구이조리
A21: 교시 | B21: 시간 | C21: 구분 | D21: =D5+7 -> 44879 | E21: =E5+7 -> 44880 | F21: =F5+7 -> 44881 | G21: =G5+7 -> 44882 | H21: =H5+7 -> 44883 | I21: 한식볶음조리
D22: 월요일 | E22: 화요일 | F22: 수요일 | G22: 목요일 | H22: 금요일
A23: 1 | B23: =$B$7 -> 14:00 ~ 14:50 | C23: 교과목 | D23: 조리실무이론 | E23: 조리실무이론 | F23: 조리실무이론 | G23: NCS 반찬조리실습 | H23: NCS 반찬조리실습 | I23: 한식숙채조리
C24: 능력단위 | D24: 메뉴와 주방의이해 | E24: 메뉴와 주방의이해 | F24: 메뉴와 주방의이해 | G24: 한식국.탕조리 | H24: 한식밥조리 | I24: 한식전골조리
C25: 훈련장소 | D25: 요리 1강의실 | E25: 요리 1강의실 | F25: 요리 1강의실 | G25: 요리 1강의실 | H25: 요리 1강의실 | I25: 한식면류조리
C26: 훈련교사 | D26: 김경분 | E26: 김경분 | F26: 김경분 | G26: 김경분 | H26: 김경분
A27: 2 | B27: =$B$11 -> 15:00 ~ 15:50 | C27: 교과목 | D27: NCS 반찬조리실습 | E27: NCS 반찬조리실습 | F27: NCS 반찬조리실습 | G27: NCS 반찬조리실습 | H27: NCS 반찬조리실습
C28: 능력단위 | D28: 한식찌개조리 | E28: 한식생채.회조리 | F28: 한식죽조리 | G28: 한식국.탕조리 | H28: 한식생채.회조리
C29: 훈련장소 | D29: 요리 1강의실 | E29: 요리 1강의실 | F29: 요리 1강의실 | G29: 요리 1강의실 | H29: 요리 1강의실
C30: 훈련교사 | D30: 김경분 | E30: 김경분 | F30: 김경분 | G30: 김경분 | H30: 김경분
A31: 3 | B31: 11:30 ~ 12:30 | C31: 교과목 | D31: NCS 반찬조리실습 | E31: NCS 반찬조리실습 | F31: NCS 반찬조리실습 | G31: NCS 반찬조리실습 | H31: NCS 반찬조리실습
C32: 능력단위 | D32: 한식죽조리 | E32: 한식 전.적조리 | F32: 한식생채.회조리 | G32: 한식 전.적조리 | H32: 한식생채.회조리
C33: 훈련장소 | D33: 요리 1강의실 | E33: 요리 1강의실 | F33: 요리 1강의실 | G33: 요리 1강의실 | H33: 요리 1강의실
C34: 훈련교사 | D34: 김경분 | E34: 김경분 | F34: 김경분 | G34: 김경분 | H34: 김경분
A35: =YEAR(D39) & "년 " & MONTH(D39) & "월" &" " & WEEKNUM(D39,2)-WEEKNUM(D39-DAY(D39)+1,2) & "주차시간표" -> 2022년 11월 3주차시간표
A36: 훈련과정명 | C36: =$C$2 -> 반찬조리실무과정 8회 | F36: 훈련시간 | G36: =$G$2 -> 14:00~17:00
A37: 훈련기간 | C37: =$C$3 -> 2022.11.09~2023.01.11 (총훈련일46일, 138시간) | F37: 훈련교사 | G37: =$G$3 -> 김경분
A39: 교시 | B39: 시간 | C39: 구분 | D39: =D21+7 -> 44886 | E39: =E21+7 -> 44887 | F39: =F21+7 -> 44888 | G39: =G21+7 -> 44889 | H39: =H21+7 -> 44890
D40: 월요일 | E40: 화요일 | F40: 수요일 | G40: 목요일 | H40: 금요일
A41: 1 | B41: =$B$7 -> 14:00 ~ 14:50 | C41: 교과목 | D41: NCS 반찬조리실습 | E41: NCS 반찬조리실습 | F41: NCS 반찬조리실습 | G41: NCS 반찬조리실습 | H41: NCS 반찬조리실습
C42: 능력단위 | D42: 한식밥조리 | E42: 한식 전.적조리 | F42: 한식생채.회조리 | G42: 한식죽조리 | H42: 한식 전.적조리
C43: 훈련장소 | D43: 요리 1강의실 | E43: 요리 1강의실 | F43: 요리 1강의실 | G43: 요리 1강의실 | H43: 요리 1강의실
...
